BEGIN:VCALENDAR
VERSION:2.0
PRODID:-//ical@mgksiegen.de//NONSGML kigkonsult.se iCalcreator 2.29.21//
CALSCALE:GREGORIAN
METHOD:PUBLISH
UID:7b4bed3c-ced3-4a6f-8e79-6213f58fa012
X-WR-CALNAME:MGKSiegen
X-WR-CALDESC:MGKSiegen Veranstaltungen
X-WR-RELCALID:9d9dfec0-6e91-11ea-bc55-0242ac130003
X-WR-TIMEZONE:Europe/Berlin
BEGIN:VTIMEZONE
TZID:Europe/Berlin
BEGIN:STANDARD
TZNAME:CET
DTSTART:20251026T030000
TZOFFSETFROM:+0200
TZOFFSETTO:+0100
RDATE:20261025T030000
RDATE:20271031T030000
END:STANDARD
BEGIN:DAYLIGHT
TZNAME:CEST
DTSTART:20260329T020000
TZOFFSETFROM:+0100
TZOFFSETTO:+0200
RDATE:20270328T020000
END:DAYLIGHT
END:VTIMEZONE
BEGIN:VEVENT
UID:bbf0d702-7d6a-4eec-995a-c2f97417a5d6
DTSTAMP:20260420T031244Z
CLASS:PUBLIC
DESCRIPTION:
DTSTART;TZID=Europe/Berlin:20260723T123000
DTEND;TZID=Europe/Berlin:20260723T130000
SEQUENCE:1
SUMMARY:MGKSiegen -  Kunstpause
TRANSP:OPAQUE
END:VEVENT
END:VCALENDAR
