BEGIN:VCALENDAR
VERSION:2.0
PRODID:-//ical@mgksiegen.de//NONSGML kigkonsult.se iCalcreator 2.29.21//
CALSCALE:GREGORIAN
METHOD:PUBLISH
UID:887688f1-e9da-434f-b402-e4a152c9da63
X-WR-CALNAME:MGKSiegen
X-WR-CALDESC:MGKSiegen Veranstaltungen
X-WR-RELCALID:9d9dfec0-6e91-11ea-bc55-0242ac130003
X-WR-TIMEZONE:Europe/Berlin
BEGIN:VTIMEZONE
TZID:Europe/Berlin
BEGIN:STANDARD
TZNAME:CET
DTSTART:20251026T030000
TZOFFSETFROM:+0200
TZOFFSETTO:+0100
RDATE:20261025T030000
RDATE:20271031T030000
END:STANDARD
BEGIN:DAYLIGHT
TZNAME:CEST
DTSTART:20260329T020000
TZOFFSETFROM:+0100
TZOFFSETTO:+0200
RDATE:20270328T020000
END:DAYLIGHT
END:VTIMEZONE
BEGIN:VEVENT
UID:fd026cf0-626c-4f7e-83db-3160e985607c
DTSTAMP:20260420T031417Z
CLASS:PUBLIC
DESCRIPTION:
DTSTART;TZID=Europe/Berlin:20260813T123000
DTEND;TZID=Europe/Berlin:20260813T130000
SEQUENCE:1
SUMMARY:MGKSiegen -  Kunstpause
TRANSP:OPAQUE
END:VEVENT
END:VCALENDAR
