BEGIN:VCALENDAR
VERSION:2.0
PRODID:-//ical@mgksiegen.de//NONSGML kigkonsult.se iCalcreator 2.29.21//
CALSCALE:GREGORIAN
METHOD:PUBLISH
UID:d206d81d-b8b0-41f3-8916-f013c1d9dc27
X-WR-CALNAME:MGKSiegen
X-WR-CALDESC:MGKSiegen Veranstaltungen
X-WR-RELCALID:9d9dfec0-6e91-11ea-bc55-0242ac130003
X-WR-TIMEZONE:Europe/Berlin
BEGIN:VTIMEZONE
TZID:Europe/Berlin
BEGIN:STANDARD
TZNAME:CET
DTSTART:20251026T030000
TZOFFSETFROM:+0200
TZOFFSETTO:+0100
RDATE:20261025T030000
RDATE:20271031T030000
END:STANDARD
BEGIN:DAYLIGHT
TZNAME:CEST
DTSTART:20260329T020000
TZOFFSETFROM:+0100
TZOFFSETTO:+0200
RDATE:20270328T020000
END:DAYLIGHT
END:VTIMEZONE
BEGIN:VEVENT
UID:a1466e86-b457-445b-b215-a822a6e39335
DTSTAMP:20260419T203313Z
CLASS:PUBLIC
DESCRIPTION;ALTREP="CID:<event_@www.mgksiegen.de>":Digitale Tour mit Nicole
  Kreckel - 60 mins\nFür diejenigen\, die es nicht nach Siegen schaffen: Di
 ese Online-Führung ist für Euch.\nEinfach auf Instagram dem Live folgen\, 
 wir freuen uns auf Euch.\n
DTSTART;TZID=Europe/Berlin:20260906T140000
DTEND;TZID=Europe/Berlin:20260906T150000
SEQUENCE:1
SUMMARY:MGKSiegen - Das soziale Leben der Dinge Digitale Tour (Insta Live)
TRANSP:OPAQUE
END:VEVENT
END:VCALENDAR
