BEGIN:VCALENDAR
VERSION:2.0
PRODID:-//ical@mgksiegen.de//NONSGML kigkonsult.se iCalcreator 2.29.21//
CALSCALE:GREGORIAN
METHOD:PUBLISH
UID:94af8a92-64a2-4a37-b130-968b55f98e77
X-WR-CALNAME:MGKSiegen
X-WR-CALDESC:MGKSiegen Veranstaltungen
X-WR-RELCALID:9d9dfec0-6e91-11ea-bc55-0242ac130003
X-WR-TIMEZONE:Europe/Berlin
BEGIN:VTIMEZONE
TZID:Europe/Berlin
BEGIN:STANDARD
TZNAME:CET
DTSTART:20251026T030000
TZOFFSETFROM:+0200
TZOFFSETTO:+0100
RDATE:20261025T030000
RDATE:20271031T030000
END:STANDARD
BEGIN:DAYLIGHT
TZNAME:CEST
DTSTART:20260329T020000
TZOFFSETFROM:+0100
TZOFFSETTO:+0200
RDATE:20270328T020000
END:DAYLIGHT
END:VTIMEZONE
BEGIN:VEVENT
UID:6447ed39-4668-4ac4-89b7-c66ee852be65
DTSTAMP:20260419T203215Z
CLASS:PUBLIC
DESCRIPTION;ALTREP="CID:<event_@www.mgksiegen.de>":Ohne Anmeldung\, Ticket 
 in Eintrittspreis enthalten.\n\nIn deutscher Lautsprache.\n
DTSTART;TZID=Europe/Berlin:20260702T180000
DTEND;TZID=Europe/Berlin:20260702T190000
SEQUENCE:1
SUMMARY:MGKSiegen - Das soziale Leben der Dinge Kuratorenführung mit Thomas
  Thiel
TRANSP:OPAQUE
END:VEVENT
END:VCALENDAR
