BEGIN:VCALENDAR
VERSION:2.0
PRODID:-//ical@mgksiegen.de//NONSGML kigkonsult.se iCalcreator 2.29.21//
CALSCALE:GREGORIAN
METHOD:PUBLISH
UID:94bb571d-30c1-4dd3-9418-95bb9944c98b
X-WR-CALNAME:MGKSiegen
X-WR-CALDESC:MGKSiegen Veranstaltungen
X-WR-RELCALID:9d9dfec0-6e91-11ea-bc55-0242ac130003
X-WR-TIMEZONE:Europe/Berlin
BEGIN:VTIMEZONE
TZID:Europe/Berlin
BEGIN:STANDARD
TZNAME:CET
DTSTART:20251026T030000
TZOFFSETFROM:+0200
TZOFFSETTO:+0100
RDATE:20261025T030000
RDATE:20271031T030000
END:STANDARD
BEGIN:DAYLIGHT
TZNAME:CEST
DTSTART:20260329T020000
TZOFFSETFROM:+0100
TZOFFSETTO:+0200
RDATE:20270328T020000
END:DAYLIGHT
END:VTIMEZONE
BEGIN:VEVENT
UID:40585c8e-84c2-4feb-bacb-02f90e3a1b71
DTSTAMP:20260419T203854Z
CLASS:PUBLIC
DESCRIPTION;ALTREP="CID:<event_@www.mgksiegen.de>":The Melt Goes On Forever
 : The Art & Times of David Hammons\nCanada/USA 2022\, Judd Tully\, Harold 
 Crooks\, 101 min.\n\nFilmscreening in Originalton (Englisch) und anschließ
 ender Ausstellungsrundgang in deutscher Lautsprache mit Ute Knyhala Schmid
 t und Thomas Thiel\n
DTSTART;TZID=Europe/Berlin:20260716T180000
DTEND;TZID=Europe/Berlin:20260716T203000
SEQUENCE:1
SUMMARY:MGKSiegen - The Melt Goes On Forever: The Art & Times of David Hamm
 ons mit Ute Knyhala Schmidt und Thomas Thiel
TRANSP:OPAQUE
END:VEVENT
END:VCALENDAR
