BEGIN:VCALENDAR
VERSION:2.0
PRODID:-//ical@mgksiegen.de//NONSGML kigkonsult.se iCalcreator 2.29.21//
CALSCALE:GREGORIAN
METHOD:PUBLISH
UID:3838c09e-6267-484b-a7ad-522ec3493fdb
X-WR-CALNAME:MGKSiegen
X-WR-CALDESC:MGKSiegen Veranstaltungen
X-WR-RELCALID:9d9dfec0-6e91-11ea-bc55-0242ac130003
X-WR-TIMEZONE:Europe/Berlin
BEGIN:VTIMEZONE
TZID:Europe/Berlin
BEGIN:STANDARD
TZNAME:CET
DTSTART:20251026T030000
TZOFFSETFROM:+0200
TZOFFSETTO:+0100
RDATE:20261025T030000
RDATE:20271031T030000
END:STANDARD
BEGIN:DAYLIGHT
TZNAME:CEST
DTSTART:20260329T020000
TZOFFSETFROM:+0100
TZOFFSETTO:+0200
RDATE:20270328T020000
END:DAYLIGHT
END:VTIMEZONE
BEGIN:VEVENT
UID:dc18677d-37c3-4368-8baf-e57892e5f347
DTSTAMP:20260419T204935Z
CLASS:PUBLIC
DESCRIPTION;ALTREP="CID:<event_@www.mgksiegen.de>":Die NACHT im MGKSiegen\n
 Kunst\, Drinks\, Party & mehr\nKooperation mit dem Fach Kunst und Studiere
 nden der Universität Siegen\n€10/8 (AK) €8/6 (VVK)\n
DTSTART;TZID=Europe/Berlin:20260709T180000
DTEND;TZID=Europe/Berlin:20260709T235900
SEQUENCE:1
SUMMARY:MGKSiegen - Die NACHT im MGKSiegen Kunst\, Drinks\, Party & mehr
TRANSP:OPAQUE
END:VEVENT
END:VCALENDAR
