BEGIN:VCALENDAR
VERSION:2.0
PRODID:-//ical@mgksiegen.de//NONSGML kigkonsult.se iCalcreator 2.29.21//
CALSCALE:GREGORIAN
METHOD:PUBLISH
UID:e9784c20-af19-4932-a966-ea106b9f85f0
X-WR-CALNAME:MGKSiegen
X-WR-CALDESC:MGKSiegen Veranstaltungen
X-WR-RELCALID:9d9dfec0-6e91-11ea-bc55-0242ac130003
X-WR-TIMEZONE:Europe/Berlin
BEGIN:VTIMEZONE
TZID:Europe/Berlin
BEGIN:STANDARD
TZNAME:CET
DTSTART:20251026T030000
TZOFFSETFROM:+0200
TZOFFSETTO:+0100
RDATE:20261025T030000
RDATE:20271031T030000
END:STANDARD
BEGIN:DAYLIGHT
TZNAME:CEST
DTSTART:20260329T020000
TZOFFSETFROM:+0100
TZOFFSETTO:+0200
RDATE:20270328T020000
END:DAYLIGHT
END:VTIMEZONE
BEGIN:VEVENT
UID:9f01550c-52dc-43da-9950-48aae26a135e
DTSTAMP:20260419T203546Z
CLASS:PUBLIC
DESCRIPTION;ALTREP="CID:<event_@www.mgksiegen.de>":Lesung von Texten Studie
 render\nUnter der Leitung von Roland E. Koch\nEintritt frei\n
DTSTART;TZID=Europe/Berlin:20260723T180000
DTEND;TZID=Europe/Berlin:20260723T193000
SEQUENCE:1
SUMMARY:MGKSiegen - Lesung von Texten Studierender Unter der Leitung von Ro
 land E. Koch
TRANSP:OPAQUE
END:VEVENT
END:VCALENDAR
