BEGIN:VCALENDAR
VERSION:2.0
PRODID:-//ical@mgksiegen.de//NONSGML kigkonsult.se iCalcreator 2.29.21//
CALSCALE:GREGORIAN
METHOD:PUBLISH
UID:2dcd6aab-559f-4175-b6ec-3eb9ad43afae
X-WR-CALNAME:MGKSiegen
X-WR-CALDESC:MGKSiegen Veranstaltungen
X-WR-RELCALID:9d9dfec0-6e91-11ea-bc55-0242ac130003
X-WR-TIMEZONE:Europe/Berlin
BEGIN:VTIMEZONE
TZID:Europe/Berlin
BEGIN:STANDARD
TZNAME:CET
DTSTART:20251026T030000
TZOFFSETFROM:+0200
TZOFFSETTO:+0100
RDATE:20261025T030000
RDATE:20271031T030000
END:STANDARD
BEGIN:DAYLIGHT
TZNAME:CEST
DTSTART:20260329T020000
TZOFFSETFROM:+0100
TZOFFSETTO:+0200
RDATE:20270328T020000
END:DAYLIGHT
END:VTIMEZONE
BEGIN:VEVENT
UID:c8b9dc57-686b-4771-a144-fe5dd4d68644
DTSTAMP:20260419T203655Z
CLASS:PUBLIC
DESCRIPTION;ALTREP="CID:<event_@www.mgksiegen.de>":Zum Tag des offenen Denk
 mals ist der Eintritt in unser Museum ganztags frei. Das historische Teleg
 rafenamt und der zeitgenössische Kleihues-Bau gehören zu den „Wahrzeichen“
  der Stadt Siegen. Unsere besondere Empfehlung: Ein Besuch der Ausstellung
 en „25 Jahre\, 25 Werke' und „Das soziale Leben der Dinge'.\n
DTSTART;TZID=Europe/Berlin:20260913T120000
DTEND;TZID=Europe/Berlin:20260913T160000
SEQUENCE:1
SUMMARY:MGKSiegen - Tag des offenen Denkmals Architekturführungen für Erwac
 hsene und offenes Atelier für die jungren Besucher*innen
TRANSP:OPAQUE
END:VEVENT
END:VCALENDAR
