BEGIN:VCALENDAR
VERSION:2.0
PRODID:-//ical@mgksiegen.de//NONSGML kigkonsult.se iCalcreator 2.29.21//
CALSCALE:GREGORIAN
METHOD:PUBLISH
UID:f53e186b-9cac-4a48-a72e-639468e905b8
X-WR-CALNAME:MGKSiegen
X-WR-CALDESC:MGKSiegen Veranstaltungen
X-WR-RELCALID:9d9dfec0-6e91-11ea-bc55-0242ac130003
X-WR-TIMEZONE:Europe/Berlin
BEGIN:VTIMEZONE
TZID:Europe/Berlin
BEGIN:STANDARD
TZNAME:CET
DTSTART:20251026T030000
TZOFFSETFROM:+0200
TZOFFSETTO:+0100
RDATE:20261025T030000
RDATE:20271031T030000
END:STANDARD
BEGIN:DAYLIGHT
TZNAME:CEST
DTSTART:20260329T020000
TZOFFSETFROM:+0100
TZOFFSETTO:+0200
RDATE:20270328T020000
END:DAYLIGHT
END:VTIMEZONE
BEGIN:VEVENT
UID:0d58d78c-734d-47b4-ac0c-6a3b0f890261
DTSTAMP:20260419T205239Z
CLASS:PUBLIC
DESCRIPTION;ALTREP="CID:<event_@www.mgksiegen.de>":Wir beginnen in einer ti
 efen Hocke und stellen die Hände schulterbreit auf dem Boden auf. Die Fing
 er sind gespreizt und zeigen nach vorne. Die Knie sind weit geöffnet und r
 uhen auf den Oberarmen. So erklärt Yogalehrerin Laura Rudolph den Teilnehm
 er*innen die anspruchsvolle Pose „Die Krähe“.\n\n„Sommeryoga“ nennt sich d
 er Yoga-Kurs im MGKSiegen\, der inmitten von Kunst stattfindet und regelmä
 ßig zahlreiche Teilnehmer*innen anzieht. Wer eine Leidenschaft für moderne
  Kunst hegt und gerne Sport und Spiritualität verbindet\, ist hier genau r
 ichtig. Am Anfang jeder Stunde betrachten die Teilnehmer*innen gemeinsam u
 nter Anleitung von Museumsmitarbeiterin Nicole Kreckel ein ausgewähltes Ku
 nstwerk\, anschließend wird dieses zum Yoga in Bezug gesetzt. Darauf folgt
  schließlich die Yogapraxis mit Laura Rudolph.\n\nBitte anmelden unter inf
 o@mgksiegen.de\n€96 für 7 Yogastunden im Museum\, mit Anmeldung\n
DTSTART;TZID=Europe/Berlin:20260715T103000
DTEND;TZID=Europe/Berlin:20260715T113000
SEQUENCE:1
SUMMARY:MGKSiegen - Sommeryoga mit Kunstbetrachtung mit Laura Rudolph und N
 icole Kreckel
TRANSP:OPAQUE
END:VEVENT
END:VCALENDAR
