BEGIN:VCALENDAR
VERSION:2.0
PRODID:-//ical@mgksiegen.de//NONSGML kigkonsult.se iCalcreator 2.29.21//
CALSCALE:GREGORIAN
METHOD:PUBLISH
UID:080015ce-70b7-4002-9aa8-67a631c96c53
X-WR-CALNAME:MGKSiegen
X-WR-CALDESC:MGKSiegen Veranstaltungen
X-WR-RELCALID:9d9dfec0-6e91-11ea-bc55-0242ac130003
X-WR-TIMEZONE:Europe/Berlin
BEGIN:VTIMEZONE
TZID:Europe/Berlin
BEGIN:STANDARD
TZNAME:CET
DTSTART:20251026T030000
TZOFFSETFROM:+0200
TZOFFSETTO:+0100
RDATE:20261025T030000
RDATE:20271031T030000
END:STANDARD
BEGIN:DAYLIGHT
TZNAME:CEST
DTSTART:20260329T020000
TZOFFSETFROM:+0100
TZOFFSETTO:+0200
RDATE:20270328T020000
END:DAYLIGHT
END:VTIMEZONE
BEGIN:VEVENT
UID:df814bb0-86f0-49ad-b7f9-1f87ac2d4204
DTSTAMP:20260419T203041Z
CLASS:PUBLIC
DESCRIPTION;ALTREP="CID:<event_@www.mgksiegen.de>":I DON'T REALLY DISTINGUI
 SH BETWEEN SCULPTURE AND PERFORMANCE\nAusgehend von Beiers Zitat im Titel 
 hinterfragen wir die scheinbar widersprüchlichen Begriffe Skulptur und Per
 formance. Während Skulptur beständig bleibt\, ist Performance zeitlich beg
 renzt. Auf den Spuren von Beier werden wir Themen aus der Ausstellung ausf
 indig machen\, und sie als Inspirationsquelle nutzen\, um den Fokus für di
 e performative Installation\, das soziale Experiment oder die Gemeinschaft
 sperformance zu bestimmen\, die wir gemeinsam entwickeln werden. Es werden
  Alltagsmaterialien zur Verfügung gestellt\, die als Grundlage für die Gru
 ppenaktion genutzt werden können.\n\nWorkshop für Erwachsene.\nWochenendte
 rmin auch einzeln buchbar.\n€50 pro Wochenende (Tickets hier im Onlineshop
 )\n
DTSTART;TZID=Europe/Berlin:20260718T000000
DTEND;TZID=Europe/Berlin:20260719T235900
SEQUENCE:1
SUMMARY:MGKSiegen - Performance und Körper im Museum mit Naomi Xila-Xulis
TRANSP:OPAQUE
END:VEVENT
END:VCALENDAR
