BEGIN:VCALENDAR
VERSION:2.0
PRODID:-//ical@mgksiegen.de//NONSGML kigkonsult.se iCalcreator 2.29.21//
CALSCALE:GREGORIAN
METHOD:PUBLISH
UID:1f3ad8f3-00c4-4672-a2ea-f3f2e791aaff
X-WR-CALNAME:MGKSiegen
X-WR-CALDESC:MGKSiegen Events
X-WR-RELCALID:9d9dfec0-6e91-11ea-bc55-0242ac130003
X-WR-TIMEZONE:Europe/Berlin
BEGIN:VTIMEZONE
TZID:Europe/Berlin
BEGIN:STANDARD
TZNAME:CET
DTSTART:20251026T030000
TZOFFSETFROM:+0200
TZOFFSETTO:+0100
RDATE:20261025T030000
RDATE:20271031T030000
END:STANDARD
BEGIN:DAYLIGHT
TZNAME:CEST
DTSTART:20260329T020000
TZOFFSETFROM:+0100
TZOFFSETTO:+0200
RDATE:20270328T020000
END:DAYLIGHT
END:VTIMEZONE
BEGIN:VEVENT
UID:ba33378a-7ba3-44a0-ba3f-4537f37a6ffb
DTSTAMP:20260419T173426Z
CLASS:PUBLIC
DESCRIPTION:
DTSTART;TZID=Europe/Berlin:20260521T123000
DTEND;TZID=Europe/Berlin:20260521T130000
SEQUENCE:1
SUMMARY:MGKSiegen -  Art break
TRANSP:OPAQUE
END:VEVENT
END:VCALENDAR
