BEGIN:VCALENDAR
VERSION:2.0
PRODID:-//ical@mgksiegen.de//NONSGML kigkonsult.se iCalcreator 2.29.21//
CALSCALE:GREGORIAN
METHOD:PUBLISH
UID:bdad9d53-2d1f-4140-b421-3c9a97c135cb
X-WR-CALNAME:MGKSiegen
X-WR-CALDESC:MGKSiegen Events
X-WR-RELCALID:9d9dfec0-6e91-11ea-bc55-0242ac130003
X-WR-TIMEZONE:Europe/Berlin
BEGIN:VTIMEZONE
TZID:Europe/Berlin
BEGIN:STANDARD
TZNAME:CET
DTSTART:20251026T030000
TZOFFSETFROM:+0200
TZOFFSETTO:+0100
RDATE:20261025T030000
RDATE:20271031T030000
END:STANDARD
BEGIN:DAYLIGHT
TZNAME:CEST
DTSTART:20260329T020000
TZOFFSETFROM:+0100
TZOFFSETTO:+0200
RDATE:20270328T020000
END:DAYLIGHT
END:VTIMEZONE
BEGIN:VEVENT
UID:e244ae86-ec99-4b39-96a8-e04cb223d124
DTSTAMP:20260419T173558Z
CLASS:PUBLIC
DESCRIPTION;ALTREP="CID:<event_@www.mgksiegen.de>":Digital art break with N
 icole Kreckel - 30mins\n\nFor those of you that cannot make it to Siegen: 
 This online guided tour is for you.\n\nJust follow the Live on Instagram\,
  we're looking forward to see you there.\n
DTSTART;TZID=Europe/Berlin:20260701T123000
DTEND;TZID=Europe/Berlin:20260701T130000
SEQUENCE:1
SUMMARY:MGKSiegen - The Social Life of Things and NRW+ Residence Digital Ar
 t Break (Live)
TRANSP:OPAQUE
END:VEVENT
END:VCALENDAR
