BEGIN:VCALENDAR
VERSION:2.0
PRODID:-//ical@mgksiegen.de//NONSGML kigkonsult.se iCalcreator 2.29.21//
CALSCALE:GREGORIAN
METHOD:PUBLISH
UID:0152e359-1b27-4fd3-af38-11d4ebb93c18
X-WR-CALNAME:MGKSiegen
X-WR-CALDESC:MGKSiegen Events
X-WR-RELCALID:9d9dfec0-6e91-11ea-bc55-0242ac130003
X-WR-TIMEZONE:Europe/Berlin
BEGIN:VTIMEZONE
TZID:Europe/Berlin
BEGIN:STANDARD
TZNAME:CET
DTSTART:20251026T030000
TZOFFSETFROM:+0200
TZOFFSETTO:+0100
RDATE:20261025T030000
RDATE:20271031T030000
END:STANDARD
BEGIN:DAYLIGHT
TZNAME:CEST
DTSTART:20260329T020000
TZOFFSETFROM:+0100
TZOFFSETTO:+0200
RDATE:20270328T020000
END:DAYLIGHT
END:VTIMEZONE
BEGIN:VEVENT
UID:5d75a740-e8fe-471f-bb1e-cdc9d0b0de7e
DTSTAMP:20260419T173144Z
CLASS:PUBLIC
DESCRIPTION;ALTREP="CID:<event_@www.mgksiegen.de>":FLINTA* meet-up and femi
 nist gathering at the exhibition\nIn cooperation with the Lila Salon\, eve
 nt for FLINTA*-people only\n
DTSTART;TZID=Europe/Berlin:20260917T180000
DTEND;TZID=Europe/Berlin:20260917T193000
SEQUENCE:1
SUMMARY:MGKSiegen - The Social Life of Things FLINTA* meet-up and feminist 
 gathering at the exhibition
TRANSP:OPAQUE
END:VEVENT
END:VCALENDAR
