BEGIN:VCALENDAR
VERSION:2.0
PRODID:-//ical@mgksiegen.de//NONSGML kigkonsult.se iCalcreator 2.29.21//
CALSCALE:GREGORIAN
METHOD:PUBLISH
UID:bb154b76-26e8-4069-a399-935d1b45cd87
X-WR-CALNAME:MGKSiegen
X-WR-CALDESC:MGKSiegen Events
X-WR-RELCALID:9d9dfec0-6e91-11ea-bc55-0242ac130003
X-WR-TIMEZONE:Europe/Berlin
BEGIN:VTIMEZONE
TZID:Europe/Berlin
BEGIN:STANDARD
TZNAME:CET
DTSTART:20251026T030000
TZOFFSETFROM:+0200
TZOFFSETTO:+0100
RDATE:20261025T030000
RDATE:20271031T030000
END:STANDARD
BEGIN:DAYLIGHT
TZNAME:CEST
DTSTART:20260329T020000
TZOFFSETFROM:+0100
TZOFFSETTO:+0200
RDATE:20270328T020000
END:DAYLIGHT
END:VTIMEZONE
BEGIN:VEVENT
UID:5760fc51-41a6-4d89-8f98-6832a8cde5ae
DTSTAMP:20260419T172720Z
CLASS:PUBLIC
DESCRIPTION;ALTREP="CID:<event_@www.mgksiegen.de>":Reading texts written by
  students\nDirected by Roland E. Koch\nAdmission free\n
DTSTART;TZID=Europe/Berlin:20260723T180000
DTEND;TZID=Europe/Berlin:20260723T193000
SEQUENCE:1
SUMMARY:MGKSiegen - Reading texts written by students Directed by Roland E.
  Koch
TRANSP:OPAQUE
END:VEVENT
END:VCALENDAR
