BEGIN:VCALENDAR
VERSION:2.0
PRODID:-//ical@mgksiegen.de//NONSGML kigkonsult.se iCalcreator 2.29.21//
CALSCALE:GREGORIAN
METHOD:PUBLISH
UID:bfdc41a9-f5d5-49a9-885b-28e4bec3d47d
X-WR-CALNAME:MGKSiegen
X-WR-CALDESC:MGKSiegen Events
X-WR-RELCALID:9d9dfec0-6e91-11ea-bc55-0242ac130003
X-WR-TIMEZONE:Europe/Berlin
BEGIN:VTIMEZONE
TZID:Europe/Berlin
BEGIN:STANDARD
TZNAME:CET
DTSTART:20251026T030000
TZOFFSETFROM:+0200
TZOFFSETTO:+0100
RDATE:20261025T030000
RDATE:20271031T030000
END:STANDARD
BEGIN:DAYLIGHT
TZNAME:CEST
DTSTART:20260329T020000
TZOFFSETFROM:+0100
TZOFFSETTO:+0200
RDATE:20270328T020000
END:DAYLIGHT
END:VTIMEZONE
BEGIN:VEVENT
UID:1620d8ed-e42d-4892-94f0-f5806ed8806d
DTSTAMP:20260419T172720Z
CLASS:PUBLIC
DESCRIPTION;ALTREP="CID:<event_@www.mgksiegen.de>":On Open Monument Day\, a
 dmission to our museum is free all day. The historic telegraph office and 
 the contemporary Kleihues building are among the ‘landmarks’ of the city o
 f Siegen. We particularly recommend a visit to the exhibitions ‘25 Years\,
  25 Artworks’ and ‘The Social Life of Things’.\n
DTSTART;TZID=Europe/Berlin:20260913T120000
DTEND;TZID=Europe/Berlin:20260913T160000
SEQUENCE:1
SUMMARY:MGKSiegen - Open Monument Day Architectural guided tours for adults
  and an open creative studio for younger visitors
TRANSP:OPAQUE
END:VEVENT
END:VCALENDAR
