BEGIN:VCALENDAR
VERSION:2.0
PRODID:-//ical@mgksiegen.de//NONSGML kigkonsult.se iCalcreator 2.29.21//
CALSCALE:GREGORIAN
METHOD:PUBLISH
UID:3dcbbe64-16dc-4361-a25b-1969d4a5d87b
X-WR-CALNAME:MGKSiegen
X-WR-CALDESC:MGKSiegen Events
X-WR-RELCALID:9d9dfec0-6e91-11ea-bc55-0242ac130003
X-WR-TIMEZONE:Europe/Berlin
BEGIN:VTIMEZONE
TZID:Europe/Berlin
BEGIN:STANDARD
TZNAME:CET
DTSTART:20251026T030000
TZOFFSETFROM:+0200
TZOFFSETTO:+0100
RDATE:20261025T030000
RDATE:20271031T030000
END:STANDARD
BEGIN:DAYLIGHT
TZNAME:CEST
DTSTART:20260329T020000
TZOFFSETFROM:+0100
TZOFFSETTO:+0200
RDATE:20270328T020000
END:DAYLIGHT
END:VTIMEZONE
BEGIN:VEVENT
UID:4b7dafea-cafc-4f88-82b4-21394bfe3bd5
DTSTAMP:20260419T172832Z
CLASS:PUBLIC
DESCRIPTION;ALTREP="CID:<event_@www.mgksiegen.de>":We start in a deep squat
  and place our hands shoulder-width apart on the floor. The fingers are sp
 read apart and point forward. The knees are wide open and rest on the uppe
 r arms. This is how yoga teacher Laura Rudolph explains the challenging “C
 row” pose to the participants.\n\n“Summer yoga” is the name of the yoga cl
 ass at MGKSiegen\, which takes place in the midst of art and regularly att
 racts numerous participants. If you have a passion for modern art and enjo
 y combining sport and spirituality\, this is the right place for you. At t
 he beginning of each class\, participants look at a selected work of art t
 ogether under the guidance of museum employee Nicole Kreckel\, after which
  it is related to yoga. This is followed by a yoga practice with Laura Rud
 olph.\n\nPlease register via email info@mgksiegen.de\n€96 for 7 Yogasessio
 ns\, don't forget to register\n
DTSTART;TZID=Europe/Berlin:20260715T103000
DTEND;TZID=Europe/Berlin:20260715T113000
SEQUENCE:1
SUMMARY:MGKSiegen - Summeryoga with art viewing with Laura Rudolph and Nico
 le Kreckel
TRANSP:OPAQUE
END:VEVENT
END:VCALENDAR
