BEGIN:VCALENDAR
VERSION:2.0
PRODID:-//ical@mgksiegen.de//NONSGML kigkonsult.se iCalcreator 2.29.21//
CALSCALE:GREGORIAN
METHOD:PUBLISH
UID:ab252386-eb01-41c3-9f8e-03526ee1c4f3
X-WR-CALNAME:MGKSiegen
X-WR-CALDESC:MGKSiegen Events
X-WR-RELCALID:9d9dfec0-6e91-11ea-bc55-0242ac130003
X-WR-TIMEZONE:Europe/Berlin
BEGIN:VTIMEZONE
TZID:Europe/Berlin
BEGIN:STANDARD
TZNAME:CET
DTSTART:20251026T030000
TZOFFSETFROM:+0200
TZOFFSETTO:+0100
RDATE:20261025T030000
RDATE:20271031T030000
END:STANDARD
BEGIN:DAYLIGHT
TZNAME:CEST
DTSTART:20260329T020000
TZOFFSETFROM:+0100
TZOFFSETTO:+0200
RDATE:20270328T020000
END:DAYLIGHT
END:VTIMEZONE
BEGIN:VEVENT
UID:c868638f-e708-4493-b3a5-727cc31164cd
DTSTAMP:20260419T172811Z
CLASS:PUBLIC
DESCRIPTION;ALTREP="CID:<event_@www.mgksiegen.de>":The MGKSiegen invites yo
 u to visit the exhibition “The Social Life of Things” free of charge every
  thursday in August.Meaning sdmission is free on all day long in August on
  following days 6 August\, 13 August\, 20 August and 27 August.\n\nOn thes
 e Thursdays\, we are also offering a themed guided tour of the exhibition 
 “The Social Life of Things” led by a member of staff\, starting at 6 pm on
  dates above.\n
DTSTART;TZID=Europe/Berlin:20260806T110000
DTEND;TZID=Europe/Berlin:20260806T200000
SEQUENCE:1
SUMMARY:MGKSiegen - Free Thursday in August Every Thursday in August is fre
 e of admission all day
TRANSP:OPAQUE
END:VEVENT
END:VCALENDAR
