BEGIN:VCALENDAR
VERSION:2.0
PRODID:-//ical@mgksiegen.de//NONSGML kigkonsult.se iCalcreator 2.29.21//
CALSCALE:GREGORIAN
METHOD:PUBLISH
UID:10505f6a-8d15-428f-9f09-9ff7e1304d0f
X-WR-CALNAME:MGKSiegen
X-WR-CALDESC:MGKSiegen Events
X-WR-RELCALID:9d9dfec0-6e91-11ea-bc55-0242ac130003
X-WR-TIMEZONE:Europe/Berlin
BEGIN:VTIMEZONE
TZID:Europe/Berlin
BEGIN:STANDARD
TZNAME:CET
DTSTART:20251026T030000
TZOFFSETFROM:+0200
TZOFFSETTO:+0100
RDATE:20261025T030000
RDATE:20271031T030000
END:STANDARD
BEGIN:DAYLIGHT
TZNAME:CEST
DTSTART:20260329T020000
TZOFFSETFROM:+0100
TZOFFSETTO:+0200
RDATE:20270328T020000
END:DAYLIGHT
END:VTIMEZONE
BEGIN:VEVENT
UID:f19e27b4-078f-45c1-96de-851616d61333
DTSTAMP:20260419T172955Z
CLASS:PUBLIC
DESCRIPTION;ALTREP="CID:<event_@www.mgksiegen.de>":I DON'T REALLY DISTINGUI
 SH BETWEEN SCULPTURE AND PERFORMANCE\n\nTaking Beier’s quote in the title 
 as our starting point\, we explore the seemingly contradictory concepts of
  sculpture and performance. Whilst sculpture is permanent\, performance is
  temporary. Following in Beier’s footsteps\, we will identify themes from 
 the exhibition and use them as a source of inspiration to determine the fo
 cus for the performative installation\, social experiment or collaborative
  performance that we will develop together. Everyday materials will be pro
 vided\, which can be used as a basis for the group activity.\n\nWorkshop f
 or adults.\nWeekend sessions can also be booked individually.\n\n€50 per w
 eekend (Tickets available here in the online shop)\n
DTSTART;TZID=Europe/Berlin:20260718T000000
DTEND;TZID=Europe/Berlin:20260719T235900
SEQUENCE:1
SUMMARY:MGKSiegen - Performance and Body in the Museum with Naomi Xila-Xuli
 s
TRANSP:OPAQUE
END:VEVENT
END:VCALENDAR
